BEGIN:VCALENDAR
VERSION:2.0
PRODID:-//wp-events-plugin.com//7.2.3.1//EN
TZID:America/New_York
X-WR-TIMEZONE:America/New_York
BEGIN:VEVENT
UID:3267@wildcenter.org
DTSTART;TZID=America/New_York:20260620T143000
DTEND;TZID=America/New_York:20260620T163000
DTSTAMP:20260421T195026Z
URL:https://www.wildcenter.org/events/storytelling-circle/
SUMMARY:Storytelling Circle Through the Eyes of the River
DESCRIPTION:Talking Wings Story Circle\nJune 20 from 2:30 to 4:30 pm\nThe s
 torytelling circle will take place at The Wild Center\, along the banks of
  Ahná:wate (Raquette River). Circle participants will join together in a 
 conversation that blends science\, storytelling and personal connections t
 o land and water. Together they will discuss the health of the watershed a
 nd how humans can meet the river's needs. The conversation will also explo
 re how to understand the Climate Crisis from the river's perspective.\n\nT
 his circle is part of Through the Eyes of Rivers\, which aims to catalyze 
 storytelling and science to share the voice of rivers and their ecosystems
 . The event will have ten participant limit\, and we will gather outside a
 t The Wild Center Canoe Launch (weather permitting).\n\nWe invite you to r
 egister for the circle at talkingrivers.org/tupper-lake-circle.\n\nCost: F
 ree with preregistration- Limited spaces\nRegistration: through Talking Ri
 vers website HERE\n\n&nbsp\;
ATTACH;FMTTYPE=image/jpeg:https://www.wildcenter.org/wp-content/uploads/20
 26/04/Eyes-of-Rivers.jpg
CATEGORIES:Special Events
END:VEVENT
BEGIN:VTIMEZONE
TZID:America/New_York
X-LIC-LOCATION:America/New_York
BEGIN:DAYLIGHT
DTSTART:20260308T030000
TZOFFSETFROM:-0500
TZOFFSETTO:-0400
TZNAME:EDT
END:DAYLIGHT
END:VTIMEZONE
END:VCALENDAR