BEGIN:VCALENDAR
VERSION:2.0
PRODID:-//wp-events-plugin.com//7.2.3.1//EN
TZID:America/New_York
X-WR-TIMEZONE:America/New_York
BEGIN:VEVENT
UID:3173@wildcenter.org
DTSTART;TZID=America/New_York:20260507T160000
DTEND;TZID=America/New_York:20260507T180000
DTSTAMP:20260413T200648Z
URL:https://www.wildcenter.org/events/naturerecord/
SUMMARY:The Nature Record Community Conversation
DESCRIPTION:The Nature Record Community Conversation\nMay 7\, 2026\nNature 
 influences the air we breathe\, the water we drink\, the homes we build\, 
 the stability of our climate\, the health of our brains and bodies\, and t
 he strength of our local economies. Even for those who don’t focus on en
 vironmental issues every day\, these connections are constant and deeply w
 oven into daily life.\n\nThe Nature Record is the first comprehensive\, in
 dependent\, evidence-based assessment of how nature is doing in the United
  States and how changes in nature are shaping our lives\, communities\, an
 d economy. The public comment period for The Nature Record Assessment is o
 pen. Members of the public are invited to review the assessment and submit
  comments to help improve its clarity\, accuracy\, and usefulness.\n\nCome
  talk with the authors\, learn about the report\, and share your thoughts 
 of The Nature Record Assessment. This free\, public event will help shape 
 the Assessment\, and will include information sharing\, Q&amp\;A sessions\
 , and collaborative round table discussions.\n\nThe authors want to hear f
 rom you - input from everyone is welcome. Technical expertise is not requi
 red\, and broad participation now will help ensure the Assessment reflects
  the best available evidence and the diversity of perspectives and experie
 nces across the U.S. Comment today\, share the word - and help shape this 
 first-of-its-kind national effort!\n\nLimited spots\, so register soon!\n\
 nREGISTER\n\n&nbsp\;
ATTACH;FMTTYPE=image/jpeg:https://www.wildcenter.org/wp-content/uploads/20
 26/03/Nature-Record-2.jpg
CATEGORIES:Special Events
END:VEVENT
BEGIN:VTIMEZONE
TZID:America/New_York
X-LIC-LOCATION:America/New_York
BEGIN:DAYLIGHT
DTSTART:20260308T030000
TZOFFSETFROM:-0500
TZOFFSETTO:-0400
TZNAME:EDT
END:DAYLIGHT
END:VTIMEZONE
END:VCALENDAR