BEGIN:VCALENDAR
VERSION:2.0
PRODID:-//wp-events-plugin.com//7.2.3.1//EN
TZID:America/New_York
X-WR-TIMEZONE:America/New_York
BEGIN:VEVENT
UID:3266@wildcenter.org
DTSTART;TZID=America/New_York:20260531T150000
DTEND;TZID=America/New_York:20260531T180000
DTSTAMP:20260421T184737Z
URL:https://www.wildcenter.org/events/before-they-wake/
SUMMARY:Before They Wake: A Troll Preview Night
DESCRIPTION:Before They Wake: A Troll Preview Night\nMay 31 from 3 to 6 pm\
 nMembers of The Wild Center are invited to join us for the opening of Thom
 as Dambo’s TROLLS: Save the Humans.\n\nBe the first to meet the six Trol
 ls who will be taking up residence at The Wild Center this summer. Members
  are invited to campus for an exclusive first look at Thomas Dambo’s TRO
 LLS: Save the Humans traveling exhibit. Enjoy some lite bites while you ex
 plore the world of whimsy\, getting to know the Trolls.\n\nThis invitation
  admits two adults and your children under 18.\n\nFree for Members\, regis
 tration required.\n\nREGISTER\nNot a member? Learn more &amp\; join today
 !
ATTACH;FMTTYPE=image/jpeg:https://www.wildcenter.org/wp-content/uploads/20
 26/04/Member-preview-night.jpg
CATEGORIES:Members
END:VEVENT
BEGIN:VTIMEZONE
TZID:America/New_York
X-LIC-LOCATION:America/New_York
BEGIN:DAYLIGHT
DTSTART:20260308T030000
TZOFFSETFROM:-0500
TZOFFSETTO:-0400
TZNAME:EDT
END:DAYLIGHT
END:VTIMEZONE
END:VCALENDAR